BEGIN:VCALENDAR
VERSION:2.0
PRODID:-//Welcome to Odyssey - ECPv6.15.13.1//NONSGML v1.0//EN
CALSCALE:GREGORIAN
METHOD:PUBLISH
X-WR-CALNAME:Welcome to Odyssey
X-ORIGINAL-URL:https://odysseyct.com
X-WR-CALDESC:Events for Welcome to Odyssey
REFRESH-INTERVAL;VALUE=DURATION:PT1H
X-Robots-Tag:noindex
X-PUBLISHED-TTL:PT1H
BEGIN:VTIMEZONE
TZID:America/New_York
BEGIN:DAYLIGHT
TZOFFSETFROM:-0500
TZOFFSETTO:-0400
TZNAME:EDT
DTSTART:20250309T070000
END:DAYLIGHT
BEGIN:STANDARD
TZOFFSETFROM:-0400
TZOFFSETTO:-0500
TZNAME:EST
DTSTART:20251102T060000
END:STANDARD
BEGIN:DAYLIGHT
TZOFFSETFROM:-0500
TZOFFSETTO:-0400
TZNAME:EDT
DTSTART:20260308T070000
END:DAYLIGHT
BEGIN:STANDARD
TZOFFSETFROM:-0400
TZOFFSETTO:-0500
TZNAME:EST
DTSTART:20261101T060000
END:STANDARD
BEGIN:DAYLIGHT
TZOFFSETFROM:-0500
TZOFFSETTO:-0400
TZNAME:EDT
DTSTART:20270314T070000
END:DAYLIGHT
BEGIN:STANDARD
TZOFFSETFROM:-0400
TZOFFSETTO:-0500
TZNAME:EST
DTSTART:20271107T060000
END:STANDARD
END:VTIMEZONE
BEGIN:VEVENT
DTSTART;TZID=America/New_York:20260310T174500
DTEND;TZID=America/New_York:20260310T174500
DTSTAMP:20260423T142926
CREATED:20260115T180452Z
LAST-MODIFIED:20260115T180452Z
UID:4320-1773164700-1773164700@odysseyct.com
SUMMARY:Staff Meeting
DESCRIPTION:
URL:https://odysseyct.com/event/staff-meeting/
CATEGORIES:Staff
ORGANIZER;CN="Odyssey Learning":MAILTO:odysseyctgen@gmail.com
END:VEVENT
BEGIN:VEVENT
DTSTART;VALUE=DATE:20260217
DTEND;VALUE=DATE:20260218
DTSTAMP:20260423T142926
CREATED:20260115T180056Z
LAST-MODIFIED:20260115T180230Z
UID:4314-1771286400-1771372799@odysseyct.com
SUMMARY:Staff: Full-Day Professional Development
DESCRIPTION:
URL:https://odysseyct.com/event/staff-full-day-professional-development/
CATEGORIES:Staff
ORGANIZER;CN="Odyssey Learning":MAILTO:odysseyctgen@gmail.com
END:VEVENT
END:VCALENDAR