BEGIN:VCALENDAR
VERSION:2.0
PRODID:-//Welcome to Odyssey - ECPv6.15.13.1//NONSGML v1.0//EN
CALSCALE:GREGORIAN
METHOD:PUBLISH
X-WR-CALNAME:Welcome to Odyssey
X-ORIGINAL-URL:https://odysseyct.com
X-WR-CALDESC:Events for Welcome to Odyssey
REFRESH-INTERVAL;VALUE=DURATION:PT1H
X-Robots-Tag:noindex
X-PUBLISHED-TTL:PT1H
BEGIN:VTIMEZONE
TZID:America/New_York
BEGIN:DAYLIGHT
TZOFFSETFROM:-0500
TZOFFSETTO:-0400
TZNAME:EDT
DTSTART:20240310T070000
END:DAYLIGHT
BEGIN:STANDARD
TZOFFSETFROM:-0400
TZOFFSETTO:-0500
TZNAME:EST
DTSTART:20241103T060000
END:STANDARD
BEGIN:DAYLIGHT
TZOFFSETFROM:-0500
TZOFFSETTO:-0400
TZNAME:EDT
DTSTART:20250309T070000
END:DAYLIGHT
BEGIN:STANDARD
TZOFFSETFROM:-0400
TZOFFSETTO:-0500
TZNAME:EST
DTSTART:20251102T060000
END:STANDARD
BEGIN:DAYLIGHT
TZOFFSETFROM:-0500
TZOFFSETTO:-0400
TZNAME:EDT
DTSTART:20260308T070000
END:DAYLIGHT
BEGIN:STANDARD
TZOFFSETFROM:-0400
TZOFFSETTO:-0500
TZNAME:EST
DTSTART:20261101T060000
END:STANDARD
BEGIN:DAYLIGHT
TZOFFSETFROM:-0500
TZOFFSETTO:-0400
TZNAME:EDT
DTSTART:20270314T070000
END:DAYLIGHT
BEGIN:STANDARD
TZOFFSETFROM:-0400
TZOFFSETTO:-0500
TZNAME:EST
DTSTART:20271107T060000
END:STANDARD
END:VTIMEZONE
BEGIN:VEVENT
DTSTART;VALUE=DATE:20260101
DTEND;VALUE=DATE:20260102
DTSTAMP:20260423T153722
CREATED:20250915T231240Z
LAST-MODIFIED:20250915T233421Z
UID:3784-1767225600-1767311999@odysseyct.com
SUMMARY:New Year’s Day
DESCRIPTION:No school.
URL:https://odysseyct.com/event/new-years-day/
CATEGORIES:Federal Holiday
END:VEVENT
BEGIN:VEVENT
DTSTART;VALUE=DATE:20251224
DTEND;VALUE=DATE:20260101
DTSTAMP:20260423T153722
CREATED:20250915T231203Z
LAST-MODIFIED:20260115T175408Z
UID:3782-1766534400-1767225599@odysseyct.com
SUMMARY:Winter Recess
DESCRIPTION:School Closed December 24th\, 2025 through January 5th\, 2026.
URL:https://odysseyct.com/event/winter-recess/
CATEGORIES:Parents
END:VEVENT
BEGIN:VEVENT
DTSTART;TZID=America/New_York:20251223T120000
DTEND;TZID=America/New_York:20251223T120000
DTSTAMP:20260423T153722
CREATED:20251115T011335Z
LAST-MODIFIED:20260115T175417Z
UID:4206-1766491200-1766491200@odysseyct.com
SUMMARY:Early Dismissal
DESCRIPTION:
URL:https://odysseyct.com/event/early-dismissal-5/
CATEGORIES:Parents
END:VEVENT
BEGIN:VEVENT
DTSTART;VALUE=DATE:20251127
DTEND;VALUE=DATE:20251129
DTSTAMP:20260423T153722
CREATED:20250915T231117Z
LAST-MODIFIED:20260115T175518Z
UID:3780-1764201600-1764374399@odysseyct.com
SUMMARY:Thanksgiving Break
DESCRIPTION:No School.
URL:https://odysseyct.com/event/thanksgiving-break/
CATEGORIES:Parents
END:VEVENT
BEGIN:VEVENT
DTSTART;TZID=America/New_York:20251126T120000
DTEND;TZID=America/New_York:20251126T120000
DTSTAMP:20260423T153722
CREATED:20250915T231028Z
LAST-MODIFIED:20260115T175518Z
UID:3778-1764158400-1764158400@odysseyct.com
SUMMARY:Early Dismissal
DESCRIPTION:
URL:https://odysseyct.com/event/early-dismissal-3/
CATEGORIES:Parents
END:VEVENT
BEGIN:VEVENT
DTSTART;VALUE=DATE:20251111
DTEND;VALUE=DATE:20251112
DTSTAMP:20260423T153722
CREATED:20250915T230945Z
LAST-MODIFIED:20250915T233457Z
UID:3775-1762819200-1762905599@odysseyct.com
SUMMARY:Veteran’s Day
DESCRIPTION:
URL:https://odysseyct.com/event/veterans-day/
CATEGORIES:Federal Holiday
END:VEVENT
BEGIN:VEVENT
DTSTART;TZID=America/New_York:20251104T120000
DTEND;TZID=America/New_York:20251104T120000
DTSTAMP:20260423T153722
CREATED:20250915T230914Z
LAST-MODIFIED:20260115T175519Z
UID:3773-1762257600-1762257600@odysseyct.com
SUMMARY:Early Dismissal
DESCRIPTION:
URL:https://odysseyct.com/event/early-dismissal-2/
CATEGORIES:Parents
END:VEVENT
BEGIN:VEVENT
DTSTART;VALUE=DATE:20251013
DTEND;VALUE=DATE:20251014
DTSTAMP:20260423T153722
CREATED:20250915T230832Z
LAST-MODIFIED:20250915T233505Z
UID:3771-1760313600-1760399999@odysseyct.com
SUMMARY:Indigenous Peoples’ Day
DESCRIPTION:No school.
URL:https://odysseyct.com/event/indigenous-peoples-day/
CATEGORIES:Federal Holiday
END:VEVENT
BEGIN:VEVENT
DTSTART;VALUE=DATE:20251010
DTEND;VALUE=DATE:20251011
DTSTAMP:20260423T153722
CREATED:20250915T230754Z
LAST-MODIFIED:20260115T175544Z
UID:3769-1760054400-1760140799@odysseyct.com
SUMMARY:Hispanic Heritage Event
DESCRIPTION:
URL:https://odysseyct.com/event/hispanic-heritage-event/
CATEGORIES:Parents
END:VEVENT
BEGIN:VEVENT
DTSTART;VALUE=DATE:20250925
DTEND;VALUE=DATE:20250926
DTSTAMP:20260423T153722
CREATED:20250915T230732Z
LAST-MODIFIED:20260115T175544Z
UID:3767-1758758400-1758844799@odysseyct.com
SUMMARY:Back to School Night
DESCRIPTION:
URL:https://odysseyct.com/event/back-to-school-night/
CATEGORIES:Parents
END:VEVENT
BEGIN:VEVENT
DTSTART;TZID=America/New_York:20250923T120000
DTEND;TZID=America/New_York:20250923T120000
DTSTAMP:20260423T153722
CREATED:20250915T225315Z
LAST-MODIFIED:20260115T175544Z
UID:3764-1758628800-1758628800@odysseyct.com
SUMMARY:Early Dismissal
DESCRIPTION:
URL:https://odysseyct.com/event/early-dismissal/
CATEGORIES:Parents
END:VEVENT
END:VCALENDAR