BEGIN:VCALENDAR
VERSION:2.0
PRODID:-//Welcome to Odyssey - ECPv6.15.13.1//NONSGML v1.0//EN
CALSCALE:GREGORIAN
METHOD:PUBLISH
X-WR-CALNAME:Welcome to Odyssey
X-ORIGINAL-URL:https://odysseyct.com
X-WR-CALDESC:Events for Welcome to Odyssey
REFRESH-INTERVAL;VALUE=DURATION:PT1H
X-Robots-Tag:noindex
X-PUBLISHED-TTL:PT1H
BEGIN:VTIMEZONE
TZID:America/New_York
BEGIN:DAYLIGHT
TZOFFSETFROM:-0500
TZOFFSETTO:-0400
TZNAME:EDT
DTSTART:20250309T070000
END:DAYLIGHT
BEGIN:STANDARD
TZOFFSETFROM:-0400
TZOFFSETTO:-0500
TZNAME:EST
DTSTART:20251102T060000
END:STANDARD
BEGIN:DAYLIGHT
TZOFFSETFROM:-0500
TZOFFSETTO:-0400
TZNAME:EDT
DTSTART:20260308T070000
END:DAYLIGHT
BEGIN:STANDARD
TZOFFSETFROM:-0400
TZOFFSETTO:-0500
TZNAME:EST
DTSTART:20261101T060000
END:STANDARD
BEGIN:DAYLIGHT
TZOFFSETFROM:-0500
TZOFFSETTO:-0400
TZNAME:EDT
DTSTART:20270314T070000
END:DAYLIGHT
BEGIN:STANDARD
TZOFFSETFROM:-0400
TZOFFSETTO:-0500
TZNAME:EST
DTSTART:20271107T060000
END:STANDARD
END:VTIMEZONE
BEGIN:VEVENT
DTSTART;VALUE=DATE:20260101
DTEND;VALUE=DATE:20260102
DTSTAMP:20260423T135008
CREATED:20250915T231240Z
LAST-MODIFIED:20250915T233421Z
UID:3784-1767225600-1767311999@odysseyct.com
SUMMARY:New Year’s Day
DESCRIPTION:No school.
URL:https://odysseyct.com/event/new-years-day/
CATEGORIES:Federal Holiday
END:VEVENT
BEGIN:VEVENT
DTSTART;VALUE=DATE:20260102
DTEND;VALUE=DATE:20260103
DTSTAMP:20260423T135008
CREATED:20250915T231312Z
LAST-MODIFIED:20260115T175337Z
UID:3786-1767312000-1767398399@odysseyct.com
SUMMARY:Winter Recess
DESCRIPTION:No school.
URL:https://odysseyct.com/event/winter-recess-2/
CATEGORIES:Parents
END:VEVENT
BEGIN:VEVENT
DTSTART;VALUE=DATE:20260119
DTEND;VALUE=DATE:20260120
DTSTAMP:20260423T135008
CREATED:20250915T231352Z
LAST-MODIFIED:20250915T233415Z
UID:3788-1768780800-1768867199@odysseyct.com
SUMMARY:Dr. MLK Jr. Day
DESCRIPTION:No school.
URL:https://odysseyct.com/event/dr-mlk-jr-day/
CATEGORIES:Federal Holiday
END:VEVENT
END:VCALENDAR